BEGIN:VCALENDAR
VERSION:2.0
CALSCALE:GREGORIAN
PRODID:-//Diputació de Barcelona//DibaCMS//EN
BEGIN:VEVENT
UID:8023
DTSTAMP:20260420T210955
DTSTART:20190707T083000
DTEND:20190707T120000
SUMMARY:Excursió al Menhir del Pla de les Bruixes
LOCATION:
METHOD:PUBLISH
X-WR-CALNAME:vallgorguina@vallgorguina.cat
X-WR-TIMEZONE:Europe/Madrid
DESCRIPTION:Soritda a la Plaça Mn Narcís Saguer

URI:https://www.vallgorguina.cat/actualitat/agenda/excursio-al-menhir-del-pla-de-les-bruixes.html
CLASS:PUBLIC
END:VEVENT
END:VCALENDAR
