BEGIN:VCALENDAR
VERSION:2.0
CALSCALE:GREGORIAN
PRODID:-//Diputació de Barcelona//DibaCMS//EN
BEGIN:VEVENT
UID:8024
DTSTAMP:20260420T212208
DTSTART:20190708T173000
DTEND:20190708T203000
SUMMARY:Estiu Jove 2019
LOCATION:
METHOD:PUBLISH
X-WR-CALNAME:vallgorguina@vallgorguina.cat
X-WR-TIMEZONE:Europe/Madrid
DESCRIPTION:Activitats dirigides amb animadors

Infants de 6 a 10 anys Taller creatiu"decora el teu got" 

Joves de 11 a 14 anys Taller de Primers Auxilis

URI:https://www.vallgorguina.cat/actualitat/agenda/estiu-jove-2019.html
CLASS:PUBLIC
END:VEVENT
END:VCALENDAR
