BEGIN:VCALENDAR
VERSION:2.0
CALSCALE:GREGORIAN
PRODID:-//Diputació de Barcelona//DibaCMS//EN
BEGIN:VEVENT
UID:8025
DTSTAMP:20260420T212049
DTSTART:20190709T173000
DTEND:20190709T203000
SUMMARY:Estiu Jove 2019
LOCATION:
METHOD:PUBLISH
X-WR-CALNAME:vallgorguina@vallgorguina.cat
X-WR-TIMEZONE:Europe/Madrid
DESCRIPTION:Activitats dirigides amb animadors

Infants de 6 a 10 anys Fem esport al camp de futbol 

Joves de 11 a 14 anys Esport al camp de futbol

 

URI:https://www.vallgorguina.cat/actualitat/agenda/8025-estiu-jove-2019.html
CLASS:PUBLIC
END:VEVENT
END:VCALENDAR
