BEGIN:VCALENDAR
VERSION:2.0
CALSCALE:GREGORIAN
PRODID:-//Diputació de Barcelona//DibaCMS//EN
BEGIN:VEVENT
UID:8027
DTSTAMP:20260421T002246
DTSTART:20190711T173000
DTEND:20190711T203000
SUMMARY:Estiu  Jove 2019 
LOCATION:
METHOD:PUBLISH
X-WR-CALNAME:vallgorguina@vallgorguina.cat
X-WR-TIMEZONE:Europe/Madrid
DESCRIPTION:
URI:https://www.vallgorguina.cat/actualitat/agenda/8027-estiu-jove-2019-.html
CLASS:PUBLIC
END:VEVENT
END:VCALENDAR
