BEGIN:VCALENDAR
VERSION:2.0
CALSCALE:GREGORIAN
PRODID:-//Diputació de Barcelona//DibaCMS//EN
BEGIN:VEVENT
UID:8030
DTSTAMP:20260420T204534
DTSTART:20190713T210000
DTEND:20190713T235900
SUMMARY:Sopar 9è. aniversari de La Fetillera
LOCATION:
METHOD:PUBLISH
X-WR-CALNAME:vallgorguina@vallgorguina.cat
X-WR-TIMEZONE:Europe/Madrid
DESCRIPTION:
URI:https://www.vallgorguina.cat/actualitat/agenda/sopar-9e-aniversari-de-la-fetillera.html
CLASS:PUBLIC
END:VEVENT
END:VCALENDAR
