BEGIN:VCALENDAR
VERSION:2.0
CALSCALE:GREGORIAN
PRODID:-//Diputació de Barcelona//DibaCMS//EN
BEGIN:VEVENT
UID:8031
DTSTAMP:20260420T184821
DTSTART:20190715T173000
DTEND:20190715T203000
SUMMARY:Estiu  Jove 2019 
LOCATION:
METHOD:PUBLISH
X-WR-CALNAME:vallgorguina@vallgorguina.cat
X-WR-TIMEZONE:Europe/Madrid
DESCRIPTION:Infants de 6 anys a 10 anys Taller creatiu"Fem quadres per l'Espai Jove"

Joves de 11 a 14 anys Tot Bàsquet

URI:https://www.vallgorguina.cat/actualitat/agenda/8031-estiu-jove-2019-.html
CLASS:PUBLIC
END:VEVENT
END:VCALENDAR
