BEGIN:VCALENDAR
VERSION:2.0
CALSCALE:GREGORIAN
PRODID:-//Diputació de Barcelona//DibaCMS//EN
BEGIN:VEVENT
UID:8033
DTSTAMP:20260420T223944
DTSTART:20190717T173000
DTEND:20190717T203000
SUMMARY:Estiu  Jove 2019 
LOCATION:
METHOD:PUBLISH
X-WR-CALNAME:vallgorguina@vallgorguina.cat
X-WR-TIMEZONE:Europe/Madrid
DESCRIPTION:Infants de 6 a 10 anys Jocs d'aigua

Jove de 11 a 14 anys Reptes d'aigua

URI:https://www.vallgorguina.cat/actualitat/agenda/8033-estiu-jove-2019-.html
CLASS:PUBLIC
END:VEVENT
END:VCALENDAR
