BEGIN:VCALENDAR
VERSION:2.0
CALSCALE:GREGORIAN
PRODID:-//Diputació de Barcelona//DibaCMS//EN
BEGIN:VEVENT
UID:8034
DTSTAMP:20260420T165959
DTSTART:20190718T173000
DTEND:20190718T203000
SUMMARY:Estiu  Jove 2019 
LOCATION:
METHOD:PUBLISH
X-WR-CALNAME:vallgorguina@vallgorguina.cat
X-WR-TIMEZONE:Europe/Madrid
DESCRIPTION:Infants de 6 a 10 anys Taller de Circ

Joves de 11 a 14 anys Concurs de Futboli

URI:https://www.vallgorguina.cat/actualitat/agenda/8034-estiu-jove-2019-.html
CLASS:PUBLIC
END:VEVENT
END:VCALENDAR
