BEGIN:VCALENDAR
VERSION:2.0
CALSCALE:GREGORIAN
PRODID:-//Diputació de Barcelona//DibaCMS//EN
BEGIN:VEVENT
UID:8047
DTSTAMP:20260420T185105
DTSTART:20190725T180000
DTEND:20190725T200000
SUMMARY:Activitats Estiu 2019
LOCATION:
METHOD:PUBLISH
X-WR-CALNAME:vallgorguina@vallgorguina.cat
X-WR-TIMEZONE:Europe/Madrid
DESCRIPTION:Activitats per a infants i joves de 6 a 14 anys

URI:https://www.vallgorguina.cat/actualitat/agenda/8047-activitats-estiu-2019.html
CLASS:PUBLIC
END:VEVENT
END:VCALENDAR
