BEGIN:VCALENDAR
VERSION:2.0
CALSCALE:GREGORIAN
PRODID:-//Diputació de Barcelona//DibaCMS//EN
BEGIN:VEVENT
UID:8049
DTSTAMP:20260420T190024
DTSTART:20190727T173000
DTEND:20190727T190000
SUMMARY:Inauguració de l'exposició d'aquarel·les de Lluis Bosch
LOCATION:
METHOD:PUBLISH
X-WR-CALNAME:vallgorguina@vallgorguina.cat
X-WR-TIMEZONE:Europe/Madrid
DESCRIPTION:

URI:https://www.vallgorguina.cat/actualitat/agenda/inauguracio-de-lexposicio-daquarelles-de-lluis-bosch.html
CLASS:PUBLIC
END:VEVENT
END:VCALENDAR
