BEGIN:VCALENDAR
VERSION:2.0
CALSCALE:GREGORIAN
PRODID:-//Diputació de Barcelona//DibaCMS//EN
BEGIN:VEVENT
UID:8050
DTSTAMP:20260420T164927
DTSTART:20190728T120000
DTEND:20190728T140000
SUMMARY:Exposició d'aquarel·les de Lluis Bosch
LOCATION:
METHOD:PUBLISH
X-WR-CALNAME:vallgorguina@vallgorguina.cat
X-WR-TIMEZONE:Europe/Madrid
DESCRIPTION:

URI:https://www.vallgorguina.cat/actualitat/agenda/exposicio-daquarelles-de-lluis-bosch.html
CLASS:PUBLIC
END:VEVENT
END:VCALENDAR
