BEGIN:VCALENDAR
VERSION:2.0
CALSCALE:GREGORIAN
PRODID:-//Diputació de Barcelona//DibaCMS//EN
BEGIN:VEVENT
UID:8051
DTSTAMP:20260420T130733
DTSTART:20190811T163000
DTEND:20190811T183000
SUMMARY:1r. Torneig 3x3 BASKETVALL
LOCATION:
METHOD:PUBLISH
X-WR-CALNAME:vallgorguina@vallgorguina.cat
X-WR-TIMEZONE:Europe/Madrid
DESCRIPTION:Premi de 50€

URI:https://www.vallgorguina.cat/actualitat/agenda/1r-torneig-3x3-basketvall.html
CLASS:PUBLIC
END:VEVENT
END:VCALENDAR
