BEGIN:VCALENDAR
VERSION:2.0
CALSCALE:GREGORIAN
PRODID:-//Diputació de Barcelona//DibaCMS//EN
BEGIN:VEVENT
UID:8052
DTSTAMP:20260421T020424
DTSTART:20190817T223000
DTEND:20190817T235900
SUMMARY:Grup d'Havaneres Xarxa
LOCATION:
METHOD:PUBLISH
X-WR-CALNAME:vallgorguina@vallgorguina.cat
X-WR-TIMEZONE:Europe/Madrid
DESCRIPTION:
URI:https://www.vallgorguina.cat/actualitat/agenda/grup-dhavaneres-xarxa.html
CLASS:PUBLIC
END:VEVENT
END:VCALENDAR
