BEGIN:VCALENDAR
VERSION:2.0
CALSCALE:GREGORIAN
PRODID:-//Diputació de Barcelona//DibaCMS//EN
BEGIN:VEVENT
UID:8053
DTSTAMP:20260420T164447
DTSTART:20190810T200000
DTEND:20190810T235900
SUMMARY:Tobogan aquàtic, música i sardinada 
LOCATION:
METHOD:PUBLISH
X-WR-CALNAME:vallgorguina@vallgorguina.cat
X-WR-TIMEZONE:Europe/Madrid
DESCRIPTION:
	De 17.00h. a 20.00h. al c/Pi Florit:  Tobogan de 75 m. i doble carril 
	A les 20.00h. a la Plaça de la Vila - Música en viu amb Mindnight Rammblers i Sardinada
	A les 22.00h. Dj. Fidel


Per a més informació relativa a la Sardinada consulteu el cartell informatiu Sardinada

URI:https://www.vallgorguina.cat/actualitat/agenda/tobogan-aquatic-musica-i-sardinada-.html
CLASS:PUBLIC
END:VEVENT
END:VCALENDAR
