BEGIN:VCALENDAR
VERSION:2.0
CALSCALE:GREGORIAN
PRODID:-//Diputació de Barcelona//DibaCMS//EN
BEGIN:VEVENT
UID:8056
DTSTAMP:20260421T020917
DTSTART:20190806T170000
DTEND:20190806T200000
SUMMARY:Futbol Sala infantil
LOCATION:
METHOD:PUBLISH
X-WR-CALNAME:vallgorguina@vallgorguina.cat
X-WR-TIMEZONE:Europe/Madrid
DESCRIPTION:
URI:https://www.vallgorguina.cat/actualitat/agenda/8056-futbol-sala-infantil.html
CLASS:PUBLIC
END:VEVENT
END:VCALENDAR
