BEGIN:VCALENDAR
VERSION:2.0
CALSCALE:GREGORIAN
PRODID:-//Diputació de Barcelona//DibaCMS//EN
BEGIN:VEVENT
UID:8062
DTSTAMP:20260420T224108
DTSTART:20190822T170000
DTEND:20190822T200000
SUMMARY:Futbol Sala infantil
LOCATION:
METHOD:PUBLISH
X-WR-CALNAME:vallgorguina@vallgorguina.cat
X-WR-TIMEZONE:Europe/Madrid
DESCRIPTION:
URI:https://www.vallgorguina.cat/actualitat/agenda/8062-futbol-sala-infantil.html
CLASS:PUBLIC
END:VEVENT
END:VCALENDAR
