BEGIN:VCALENDAR
VERSION:2.0
CALSCALE:GREGORIAN
PRODID:-//Diputació de Barcelona//DibaCMS//EN
BEGIN:VEVENT
UID:8064
DTSTAMP:20260420T165933
DTSTART:20190802T000000
DTEND:20190802T000000
SUMMARY:Sopar a la Fresca
LOCATION:
METHOD:PUBLISH
X-WR-CALNAME:vallgorguina@vallgorguina.cat
X-WR-TIMEZONE:Europe/Madrid
DESCRIPTION:Sopar i música en directe amb el Duet Esquitx

 

URI:https://www.vallgorguina.cat/actualitat/agenda/sopar-a-la-fresca.html
CLASS:PUBLIC
END:VEVENT
END:VCALENDAR
