BEGIN:VCALENDAR
VERSION:2.0
CALSCALE:GREGORIAN
PRODID:-//Diputació de Barcelona//DibaCMS//EN
BEGIN:VEVENT
UID:8065
DTSTAMP:20260420T091127
DTSTART:20190921T223000
DTEND:20190921T235900
SUMMARY:Obra de Teatre: BURUNDANGA (El final d'una banda)
LOCATION:A la Fàbrica 
METHOD:PUBLISH
X-WR-CALNAME:vallgorguina@vallgorguina.cat
X-WR-TIMEZONE:Europe/Madrid
DESCRIPTION:
URI:https://www.vallgorguina.cat/actualitat/agenda/obra-de-teatre-burundanga-el-final-duna-banda.html
CLASS:PUBLIC
END:VEVENT
END:VCALENDAR
