BEGIN:VCALENDAR
VERSION:2.0
CALSCALE:GREGORIAN
PRODID:-//Diputació de Barcelona//DibaCMS//EN
BEGIN:VEVENT
UID:8066
DTSTAMP:20260420T172338
DTSTART:20190906T190000
DTEND:20190906T210000
SUMMARY:Reunió oberta: Voluntariat per la Cultura
LOCATION:A la Sala de Plens de l'Ajuntament 
METHOD:PUBLISH
X-WR-CALNAME:vallgorguina@vallgorguina.cat
X-WR-TIMEZONE:Europe/Madrid
DESCRIPTION:Tens idees, propostes... vine i participa!

URI:https://www.vallgorguina.cat/actualitat/agenda/reunio-oberta-voluntariat-per-la-cultura.html
CLASS:PUBLIC
END:VEVENT
END:VCALENDAR
