BEGIN:VCALENDAR
VERSION:2.0
CALSCALE:GREGORIAN
PRODID:-//Diputació de Barcelona//DibaCMS//EN
BEGIN:VEVENT
UID:8069
DTSTAMP:20260420T172526
DTSTART:20190911T140000
DTEND:20190911T210000
SUMMARY:Autocar a la manifestació de l'11 de Setembre
LOCATION:Sortida del Poliesportiu 
METHOD:PUBLISH
X-WR-CALNAME:vallgorguina@vallgorguina.cat
X-WR-TIMEZONE:Europe/Madrid
DESCRIPTION:TRAM 22 sortida a les 14.00h al Poliesportiu

venda anticipada de Tiquets:

Queviures Mº Teresa, Llacets i Per Sucar-hi Pà

URI:https://www.vallgorguina.cat/actualitat/agenda/autocar-a-la-manifestacio-de-l11-de-setembre.html
CLASS:PUBLIC
END:VEVENT
END:VCALENDAR
