BEGIN:VCALENDAR
VERSION:2.0
CALSCALE:GREGORIAN
PRODID:-//Diputació de Barcelona//DibaCMS//EN
BEGIN:VEVENT
UID:8070
DTSTAMP:20260420T131730
DTSTART:20190810T190000
DTEND:20190810T210000
SUMMARY:Inauguració de l'Exposició Mossèn Alfred - el seu pas per Vallgorguina
LOCATION:Associació Cultural de Vallgorguina (Plaça de la Vila, 2) 
METHOD:PUBLISH
X-WR-CALNAME:vallgorguina@vallgorguina.cat
X-WR-TIMEZONE:Europe/Madrid
DESCRIPTION:Inauguració: dissabte 10 d'agost a les 19h.


	Podeu consultar els dies d'obertura de l'exposició al cartell informatiu Exposició


URI:https://www.vallgorguina.cat/actualitat/agenda/inauguracio-de-lexposicio-mossen-alfred-el-seu-pas-per-vallgorguina.html
CLASS:PUBLIC
END:VEVENT
END:VCALENDAR
