BEGIN:VCALENDAR
VERSION:2.0
CALSCALE:GREGORIAN
PRODID:-//Diputació de Barcelona//DibaCMS//EN
BEGIN:VEVENT
UID:8072
DTSTAMP:20260420T152550
DTSTART:20190817T190000
DTEND:20190817T210000
SUMMARY:Exposició Mossèn Alfred - el seu pas per Vallgorguina
LOCATION:Associació Cultural de Vallgorguina (Plaça de la Vila, 2) 
METHOD:PUBLISH
X-WR-CALNAME:vallgorguina@vallgorguina.cat
X-WR-TIMEZONE:Europe/Madrid
DESCRIPTION:
	Podeu consulteu els dies d'obertura al cartell informatiu Exposició


URI:https://www.vallgorguina.cat/actualitat/agenda/8072-exposicio-mossen-alfred-el-seu-pas-per-vallgorguina.html
CLASS:PUBLIC
END:VEVENT
END:VCALENDAR
