BEGIN:VCALENDAR
VERSION:2.0
CALSCALE:GREGORIAN
PRODID:-//Diputació de Barcelona//DibaCMS//EN
BEGIN:VEVENT
UID:8089
DTSTAMP:20260420T185034
DTSTART:20190817T200000
DTEND:20190817T210000
SUMMARY:Sushi+tapes+cuina japonesa+
LOCATION:
METHOD:PUBLISH
X-WR-CALNAME:vallgorguina@vallgorguina.cat
X-WR-TIMEZONE:Europe/Madrid
DESCRIPTION:a la Plaça dela Vila

URI:https://www.vallgorguina.cat/actualitat/agenda/sushitapescuina-japonesa.html
CLASS:PUBLIC
END:VEVENT
END:VCALENDAR
