BEGIN:VCALENDAR
VERSION:2.0
CALSCALE:GREGORIAN
PRODID:-//Diputació de Barcelona//DibaCMS//EN
BEGIN:VEVENT
UID:8091
DTSTAMP:20260422T111436
DTSTART:20190831T183000
DTEND:20190831T220000
SUMMARY:Moulànima
LOCATION:
METHOD:PUBLISH
X-WR-CALNAME:vallgorguina@vallgorguina.cat
X-WR-TIMEZONE:Europe/Madrid
DESCRIPTION:Grup de meditació i viatge Sonor a l'Església Templera dels Vivers Salicrú

URI:https://www.vallgorguina.cat/actualitat/agenda/moulanima.html
CLASS:PUBLIC
END:VEVENT
END:VCALENDAR
