BEGIN:VCALENDAR
VERSION:2.0
CALSCALE:GREGORIAN
PRODID:-//Diputació de Barcelona//DibaCMS//EN
BEGIN:VEVENT
UID:8095
DTSTAMP:20260420T070524
DTSTART:20191005T170000
DTEND:20191005T190000
SUMMARY:El Cau
LOCATION:
METHOD:PUBLISH
X-WR-CALNAME:vallgorguina@vallgorguina.cat
X-WR-TIMEZONE:Europe/Madrid
DESCRIPTION:Activitats d'oci ,esportives i educatives, vine a l'espai Jove "El Cau", cada dissabte

URI:https://www.vallgorguina.cat/actualitat/agenda/8095-el-cau.html
CLASS:PUBLIC
END:VEVENT
END:VCALENDAR
