BEGIN:VCALENDAR
VERSION:2.0
CALSCALE:GREGORIAN
PRODID:-//Diputació de Barcelona//DibaCMS//EN
BEGIN:VEVENT
UID:810
DTSTAMP:20260423T082937
DTSTART:20180422T180000
DTEND:20180422T200000
SUMMARY:El caliu: Festa de Sant Jordi, obsequis als socis, roses, llibres i berenar.
LOCATION:
METHOD:PUBLISH
X-WR-CALNAME:vallgorguina@vallgorguina.cat
X-WR-TIMEZONE:Europe/Madrid
DESCRIPTION:
URI:https://www.vallgorguina.cat/actualitat/agenda/el-caliu-festa-de-sant-jordi-obsequis-als-socis-roses-llibres-i-berenar.html
CLASS:PUBLIC
END:VEVENT
END:VCALENDAR
