BEGIN:VCALENDAR
VERSION:2.0
CALSCALE:GREGORIAN
PRODID:-//Diputació de Barcelona//DibaCMS//EN
BEGIN:VEVENT
UID:8100
DTSTAMP:20260422T145807
DTSTART:20190920T230000
DTEND:20190921T010000
SUMMARY:Festa Major Vallgorguina
LOCATION:
METHOD:PUBLISH
X-WR-CALNAME:vallgorguina@vallgorguina.cat
X-WR-TIMEZONE:Europe/Madrid
DESCRIPTION:DJ Ramón

URI:https://www.vallgorguina.cat/actualitat/agenda/festa-major-vallgorguina.html
CLASS:PUBLIC
END:VEVENT
END:VCALENDAR
