BEGIN:VCALENDAR
VERSION:2.0
CALSCALE:GREGORIAN
PRODID:-//Diputació de Barcelona//DibaCMS//EN
BEGIN:VEVENT
UID:8102
DTSTAMP:20260420T192454
DTSTART:20190907T210000
DTEND:20190907T230000
SUMMARY:Sopar Solidari
LOCATION:
METHOD:PUBLISH
X-WR-CALNAME:vallgorguina@vallgorguina.cat
X-WR-TIMEZONE:Europe/Madrid
DESCRIPTION:A les 21.00h a la Plaça de la Vila

venda anticipada de Tiquets:

Queviures Mº Teresa, Llacets i Per Sucar-hi Pà

URI:https://www.vallgorguina.cat/actualitat/agenda/8102-sopar-solidari.html
CLASS:PUBLIC
END:VEVENT
END:VCALENDAR
