BEGIN:VCALENDAR
VERSION:2.0
CALSCALE:GREGORIAN
PRODID:-//Diputació de Barcelona//DibaCMS//EN
BEGIN:VEVENT
UID:812
DTSTAMP:20260423T133459
DTSTART:20180602T140000
DTEND:20180602T170000
SUMMARY:Arrossada popular i Bingo El Caliu
LOCATION:
METHOD:PUBLISH
X-WR-CALNAME:vallgorguina@vallgorguina.cat
X-WR-TIMEZONE:Europe/Madrid
DESCRIPTION:
URI:https://www.vallgorguina.cat/actualitat/agenda/812-arrossada-popular-i-bingo-el-caliu.html
CLASS:PUBLIC
END:VEVENT
END:VCALENDAR
