BEGIN:VCALENDAR
VERSION:2.0
CALSCALE:GREGORIAN
PRODID:-//Diputació de Barcelona//DibaCMS//EN
BEGIN:VEVENT
UID:8120
DTSTAMP:20260420T092131
DTSTART:20190914T090000
DTEND:20190914T140000
SUMMARY:Campionat de Petanca
LOCATION:
METHOD:PUBLISH
X-WR-CALNAME:vallgorguina@vallgorguina.cat
X-WR-TIMEZONE:Europe/Madrid
DESCRIPTION:
URI:https://www.vallgorguina.cat/actualitat/agenda/campionat-de-petanca.html
CLASS:PUBLIC
END:VEVENT
END:VCALENDAR
