BEGIN:VCALENDAR
VERSION:2.0
CALSCALE:GREGORIAN
PRODID:-//Diputació de Barcelona//DibaCMS//EN
BEGIN:VEVENT
UID:8121
DTSTAMP:20260420T090113
DTSTART:20190924T170000
DTEND:20190924T200000
SUMMARY:Espectacle "Històries de la Bleda"
LOCATION:
METHOD:PUBLISH
X-WR-CALNAME:vallgorguina@vallgorguina.cat
X-WR-TIMEZONE:Europe/Madrid
DESCRIPTION:T'acostem a la Cultura , espectacle a la Fàbrica de Vallgorguina

 

URI:https://www.vallgorguina.cat/actualitat/agenda/espectacle-histories-de-la-bleda.html
CLASS:PUBLIC
END:VEVENT
END:VCALENDAR
