BEGIN:VCALENDAR
VERSION:2.0
CALSCALE:GREGORIAN
PRODID:-//Diputació de Barcelona//DibaCMS//EN
BEGIN:VEVENT
UID:8122
DTSTAMP:20260420T144938
DTSTART:20190915T100000
DTEND:20190915T210000
SUMMARY:Campionat de Dòmino
LOCATION:
METHOD:PUBLISH
X-WR-CALNAME:vallgorguina@vallgorguina.cat
X-WR-TIMEZONE:Europe/Madrid
DESCRIPTION:A la Terrasa del Casal de la Vall

URI:https://www.vallgorguina.cat/actualitat/agenda/campionat-de-domino.html
CLASS:PUBLIC
END:VEVENT
END:VCALENDAR
