BEGIN:VCALENDAR
VERSION:2.0
CALSCALE:GREGORIAN
PRODID:-//Diputació de Barcelona//DibaCMS//EN
BEGIN:VEVENT
UID:8123
DTSTAMP:20260420T150544
DTSTART:20190914T233000
DTEND:20190914T235900
SUMMARY:Corre Guines
LOCATION:
METHOD:PUBLISH
X-WR-CALNAME:vallgorguina@vallgorguina.cat
X-WR-TIMEZONE:Europe/Madrid
DESCRIPTION:Inici a la Plaça de la Bàscula 

URI:https://www.vallgorguina.cat/actualitat/agenda/corre-guines.html
CLASS:PUBLIC
END:VEVENT
END:VCALENDAR
