BEGIN:VCALENDAR
VERSION:2.0
CALSCALE:GREGORIAN
PRODID:-//Diputació de Barcelona//DibaCMS//EN
BEGIN:VEVENT
UID:8126
DTSTAMP:20260420T150908
DTSTART:20190916T190000
DTEND:20190916T220000
SUMMARY:Tastets Musical
LOCATION:
METHOD:PUBLISH
X-WR-CALNAME:vallgorguina@vallgorguina.cat
X-WR-TIMEZONE:Europe/Madrid
DESCRIPTION:D-Question + taller de piruletes

URI:https://www.vallgorguina.cat/actualitat/agenda/tastets-musical.html
CLASS:PUBLIC
END:VEVENT
END:VCALENDAR
