BEGIN:VCALENDAR
VERSION:2.0
CALSCALE:GREGORIAN
PRODID:-//Diputació de Barcelona//DibaCMS//EN
BEGIN:VEVENT
UID:8127
DTSTAMP:20260422T145359
DTSTART:20190917T190000
DTEND:20190917T220000
SUMMARY:Tastets Musicals
LOCATION:
METHOD:PUBLISH
X-WR-CALNAME:vallgorguina@vallgorguina.cat
X-WR-TIMEZONE:Europe/Madrid
DESCRIPTION:Remolque  i AK47

URI:https://www.vallgorguina.cat/actualitat/agenda/tastets-musicals.html
CLASS:PUBLIC
END:VEVENT
END:VCALENDAR
