BEGIN:VCALENDAR
VERSION:2.0
CALSCALE:GREGORIAN
PRODID:-//Diputació de Barcelona//DibaCMS//EN
BEGIN:VEVENT
UID:8128
DTSTAMP:20260420T130510
DTSTART:20190918T190000
DTEND:20190918T230000
SUMMARY:Tastets Musicals
LOCATION:
METHOD:PUBLISH
X-WR-CALNAME:vallgorguina@vallgorguina.cat
X-WR-TIMEZONE:Europe/Madrid
DESCRIPTION:Midnight Ramblers

URI:https://www.vallgorguina.cat/actualitat/agenda/8128-tastets-musicals.html
CLASS:PUBLIC
END:VEVENT
END:VCALENDAR
