BEGIN:VCALENDAR
VERSION:2.0
CALSCALE:GREGORIAN
PRODID:-//Diputació de Barcelona//DibaCMS//EN
BEGIN:VEVENT
UID:8129
DTSTAMP:20260422T125750
DTSTART:20190919T190000
DTEND:20190919T230000
SUMMARY:Tastets Musicals
LOCATION:
METHOD:PUBLISH
X-WR-CALNAME:vallgorguina@vallgorguina.cat
X-WR-TIMEZONE:Europe/Madrid
DESCRIPTION:A rumba suelta

URI:https://www.vallgorguina.cat/actualitat/agenda/8129-tastets-musicals.html
CLASS:PUBLIC
END:VEVENT
END:VCALENDAR
