BEGIN:VCALENDAR
VERSION:2.0
CALSCALE:GREGORIAN
PRODID:-//Diputació de Barcelona//DibaCMS//EN
BEGIN:VEVENT
UID:8134
DTSTAMP:20260420T090352
DTSTART:20190929T103000
DTEND:20190929T113000
SUMMARY:Presentació del nou mossèn.
LOCATION:
METHOD:PUBLISH
X-WR-CALNAME:vallgorguina@vallgorguina.cat
X-WR-TIMEZONE:Europe/Madrid
DESCRIPTION:La missa del diumenge 29 de setembre, serà oficiada per senyor bisbe, amb motiu de la presentació del nou mossèn Jaume Casas, al que donem la benvinguda.

URI:https://www.vallgorguina.cat/actualitat/agenda/8134-presentacio-del-nou-mossen.html
CLASS:PUBLIC
END:VEVENT
END:VCALENDAR
