BEGIN:VCALENDAR
VERSION:2.0
CALSCALE:GREGORIAN
PRODID:-//Diputació de Barcelona//DibaCMS//EN
BEGIN:VEVENT
UID:8136
DTSTAMP:20260420T112638
DTSTART:20190914T193000
DTEND:20190914T210000
SUMMARY:Festival de Patinatge
LOCATION:
METHOD:PUBLISH
X-WR-CALNAME:vallgorguina@vallgorguina.cat
X-WR-TIMEZONE:Europe/Madrid
DESCRIPTION:
URI:https://www.vallgorguina.cat/actualitat/agenda/8136-festival-de-patinatge.html
CLASS:PUBLIC
END:VEVENT
END:VCALENDAR
