BEGIN:VCALENDAR
VERSION:2.0
CALSCALE:GREGORIAN
PRODID:-//Diputació de Barcelona//DibaCMS//EN
BEGIN:VEVENT
UID:814
DTSTAMP:20260423T103216
DTSTART:20180422T100000
DTEND:20180422T220000
SUMMARY:HOMENATGE AL CHIQUI per Fent Pinya
LOCATION:
METHOD:PUBLISH
X-WR-CALNAME:vallgorguina@vallgorguina.cat
X-WR-TIMEZONE:Europe/Madrid
DESCRIPTION:Festival de rap, actuacions, torneig de futbol, mercadillo, etc.

URI:https://www.vallgorguina.cat/actualitat/agenda/homenatge-al-chiqui-per-fent-pinya.html
CLASS:PUBLIC
END:VEVENT
END:VCALENDAR
