BEGIN:VCALENDAR
VERSION:2.0
CALSCALE:GREGORIAN
PRODID:-//Diputació de Barcelona//DibaCMS//EN
BEGIN:VEVENT
UID:8140
DTSTAMP:20260420T090235
DTSTART:20190920T220000
DTEND:20190920T235900
SUMMARY:Concert "La república Rumbera"
LOCATION:
METHOD:PUBLISH
X-WR-CALNAME:vallgorguina@vallgorguina.cat
X-WR-TIMEZONE:Europe/Madrid
DESCRIPTION:
URI:https://www.vallgorguina.cat/actualitat/agenda/concert-la-republica-rumbera.html
CLASS:PUBLIC
END:VEVENT
END:VCALENDAR
