BEGIN:VCALENDAR
VERSION:2.0
CALSCALE:GREGORIAN
PRODID:-//Diputació de Barcelona//DibaCMS//EN
BEGIN:VEVENT
UID:8142
DTSTAMP:20260420T072005
DTSTART:20190922T090000
DTEND:20190922T130000
SUMMARY:34a Trobada de gegants
LOCATION:
METHOD:PUBLISH
X-WR-CALNAME:vallgorguina@vallgorguina.cat
X-WR-TIMEZONE:Europe/Madrid
DESCRIPTION:Plantada de Gegants a  la Plaça de la Vila

URI:https://www.vallgorguina.cat/actualitat/agenda/34a-trobada-de-gegants.html
CLASS:PUBLIC
END:VEVENT
END:VCALENDAR
