BEGIN:VCALENDAR
VERSION:2.0
CALSCALE:GREGORIAN
PRODID:-//Diputació de Barcelona//DibaCMS//EN
BEGIN:VEVENT
UID:8143
DTSTAMP:20260420T091416
DTSTART:20190929T134500
DTEND:20190929T160000
SUMMARY:Arrosada
LOCATION:
METHOD:PUBLISH
X-WR-CALNAME:vallgorguina@vallgorguina.cat
X-WR-TIMEZONE:Europe/Madrid
DESCRIPTION:Venda de tiquets Al Caliu i Queviures MªTeresa.

URI:https://www.vallgorguina.cat/actualitat/agenda/arrosada.html
CLASS:PUBLIC
END:VEVENT
END:VCALENDAR
