BEGIN:VCALENDAR
VERSION:2.0
CALSCALE:GREGORIAN
PRODID:-//Diputació de Barcelona//DibaCMS//EN
BEGIN:VEVENT
UID:8149
DTSTAMP:20260420T091951
DTSTART:20190922T110000
DTEND:20190922T150000
SUMMARY:Festa Major 2019
LOCATION:
METHOD:PUBLISH
X-WR-CALNAME:vallgorguina@vallgorguina.cat
X-WR-TIMEZONE:Europe/Madrid
DESCRIPTION:

URI:https://www.vallgorguina.cat/actualitat/agenda/8149-festa-major-2019.html
CLASS:PUBLIC
END:VEVENT
END:VCALENDAR
