BEGIN:VCALENDAR
VERSION:2.0
CALSCALE:GREGORIAN
PRODID:-//Diputació de Barcelona//DibaCMS//EN
BEGIN:VEVENT
UID:8152
DTSTAMP:20260420T084339
DTSTART:20191004T170000
DTEND:20191004T190000
SUMMARY:BiblioLab
LOCATION:
METHOD:PUBLISH
X-WR-CALNAME:vallgorguina@vallgorguina.cat
X-WR-TIMEZONE:Europe/Madrid
DESCRIPTION:A vista d'ocell , la màquina voladora de Leonardo da Vinci

URI:https://www.vallgorguina.cat/actualitat/agenda/bibliolab.html
CLASS:PUBLIC
END:VEVENT
END:VCALENDAR
