BEGIN:VCALENDAR
VERSION:2.0
CALSCALE:GREGORIAN
PRODID:-//Diputació de Barcelona//DibaCMS//EN
BEGIN:VEVENT
UID:8153
DTSTAMP:20260420T165857
DTSTART:20191001T190000
DTEND:20191001T210000
SUMMARY:1 d'Octubre 2017 a Vallgorguina
LOCATION:
METHOD:PUBLISH
X-WR-CALNAME:vallgorguina@vallgorguina.cat
X-WR-TIMEZONE:Europe/Madrid
DESCRIPTION:Acte a la sala d'exposicións

URI:https://www.vallgorguina.cat/actualitat/agenda/1-doctubre-2017-a-vallgorguina.html
CLASS:PUBLIC
END:VEVENT
END:VCALENDAR
