BEGIN:VCALENDAR
VERSION:2.0
CALSCALE:GREGORIAN
PRODID:-//Diputació de Barcelona//DibaCMS//EN
BEGIN:VEVENT
UID:8155
DTSTAMP:20260420T070302
DTSTART:20191012T213000
DTEND:20191012T235900
SUMMARY:Nit d'estels a Vallgorguina
LOCATION:
METHOD:PUBLISH
X-WR-CALNAME:vallgorguina@vallgorguina.cat
X-WR-TIMEZONE:Europe/Madrid
DESCRIPTION:CANVI DEL PUNT DE TROBADA: En lloc de La Fàbrica, ens trobarem a la "Sala d'Exposicions", entrada per l'aparcament del poliesportiu.

 

URI:https://www.vallgorguina.cat/actualitat/agenda/8155-nit-destels-a-vallgorguina.html
CLASS:PUBLIC
END:VEVENT
END:VCALENDAR
