BEGIN:VCALENDAR
VERSION:2.0
CALSCALE:GREGORIAN
PRODID:-//Diputació de Barcelona//DibaCMS//EN
BEGIN:VEVENT
UID:8156
DTSTAMP:20260420T150929
DTSTART:20191003T183000
DTEND:20191003T213000
SUMMARY:Cicle de conferències gratuïtes 
LOCATION:
METHOD:PUBLISH
X-WR-CALNAME:vallgorguina@vallgorguina.cat
X-WR-TIMEZONE:Europe/Madrid
DESCRIPTION:Per què i per a què ens salta l'automàtic amb els fills i la parella ?

A l'escola Waldorf de Vallgorguina 

URI:https://www.vallgorguina.cat/actualitat/agenda/cicle-de-conferencies-gratuites-.html
CLASS:PUBLIC
END:VEVENT
END:VCALENDAR
