BEGIN:VCALENDAR
VERSION:2.0
CALSCALE:GREGORIAN
PRODID:-//Diputació de Barcelona//DibaCMS//EN
BEGIN:VEVENT
UID:8174
DTSTAMP:20260420T131948
DTSTART:20191005T094500
DTEND:20191006T000000
SUMMARY:Partits de la Jornada FC Vallgorguina
LOCATION:
METHOD:PUBLISH
X-WR-CALNAME:vallgorguina@vallgorguina.cat
X-WR-TIMEZONE:Europe/Madrid
DESCRIPTION:
URI:https://www.vallgorguina.cat/actualitat/agenda/8174-partits-de-la-jornada-fc-vallgorguina.html
CLASS:PUBLIC
END:VEVENT
END:VCALENDAR
