BEGIN:VCALENDAR
VERSION:2.0
CALSCALE:GREGORIAN
PRODID:-//Diputació de Barcelona//DibaCMS//EN
BEGIN:VEVENT
UID:8179
DTSTAMP:20260420T031736
DTSTART:20191109T103000
DTEND:20191109T140000
SUMMARY:Anem a Buscar Bolets
LOCATION:
METHOD:PUBLISH
X-WR-CALNAME:vallgorguina@vallgorguina.cat
X-WR-TIMEZONE:Europe/Madrid
DESCRIPTION:Punt de trobada al Museu del Bosc i de la Pagesia

URI:https://www.vallgorguina.cat/actualitat/agenda/anem-a-buscar-bolets.html
CLASS:PUBLIC
END:VEVENT
END:VCALENDAR
